BEGIN:VCALENDAR
VERSION:2.0
PRODID:-//Austrian Indonesian Society - ECPv4.5.6//NONSGML v1.0//EN
CALSCALE:GREGORIAN
METHOD:PUBLISH
X-WR-CALNAME:Austrian Indonesian Society
X-ORIGINAL-URL:http://austria-indonesia.com
X-WR-CALDESC:Events for Austrian Indonesian Society
BEGIN:VEVENT
DTSTART;TZID=UTC+0:20191007T164500
DTEND;TZID=UTC+0:20191007T181500
DTSTAMP:20260420T232139
CREATED:20190919T072217Z
LAST-MODIFIED:20190919T072238Z
UID:712-1570466700-1570472100@austria-indonesia.com
SUMMARY:Wintersemester 2019/20 Indonesisch-Sprachkurse auf den Niveaus A1\, A2 und B1
DESCRIPTION:\n\n\nWir freuen uns\, auch im bevorstehenden Wintersemester 2019/20 Indonesisch-Sprachkurse auf den Niveaus A1\, A2 und B1 an der Universität Wien anbieten zu können:\n\n\n \n\n\nTermine:\n\n\nA1 (4 WS\, 3 ECTS): Montag\, 16:45 – 18:15 und Mittwoch\, 16:45 – 18:15 \n\n\n(1. Termin 07.10.19)\n\n\n \n\n\nA2 (4 WS\, 3 ECTS): Mittwoch\, 15:00 – 16:30 und Freitag\, 16:45 – 18:15 \n\n\n(1. Termin 09.10.19)\n\n\n \n\n\nB1 (2 WS\, 2 ECTS): Donnerstag\, 18:30 – 20:00 \n\n\n(1. Termin 10.10.19)\n\n\n \n\n\nOrt:\n\n\nUniversität Wien\n\n\nInstitut für Kultur- und Sozialanthropologie\n\n\nUniversitätsstraße 7 (NIG)\, 4. Stock\n\n\n1010 Wien\n\n\n \n\n\nAnmeldung per Email oder telefonisch:\n\n\ngabriele.weichart@univie.ac.at\n\n\n+43 681 107 55 661\n\n\n \n\n\nSeit dem Wintersemester 2018/19 können Studierenden\, die regelmäßig an den Kursen teilnehmen und die Prüfungen erfolgreich absolvieren\, ECTS für ihr Studium angerechnet werden. Weitere Bedingungen dafür sind:\n\n\n– Studierende der KSA an der Univ. Wien müssen die StEOP erfolgreich abgeschlossen haben; \n\n\n– Studierende an anderen Universitäten müssen einen Antrag auf Mitbelegung an der Univ. Wien stellen.\n\n\n \n\n\nBitte beachten Sie\, dass die Kurse A1 und A2 in diesem Semester mit jeweils 4 Wochenstunden ausgestattet sind und dafür 3 ECTS vergeben werden.\n\n\n \n\n\nSämtliche Kurse werden vom Indonesischen Ministerium für Bildung und Kultur finanziert und gemeinsam mit der Indonesischen Botschaft in Wien organisiert. Der Sprachlektor Antonius Rahmat Pujo Purnomo\, PhD von der Airlangga University in Surabaya wird dafür extra von Indonesien nach Wien entsendet.\n\n\n \n\n\nDie Kurse sind offen für alle Studierenden und MitarbeiterInnen der Universität Wien\, anderer Bildungsinstitutionen sowie weitere interessierte Personen. Der Kursbesuch ist für alle TeilnehmerInnen gratis!\n\n\n\n
URL:http://austria-indonesia.com/event/wintersemester-201920-indonesisch-sprachkurse-auf-den-niveaus-a1-a2-und-b1/
LOCATION:Universitätsstraße 7\, Vienna\, 1010\, Austria
END:VEVENT
END:VCALENDAR