BEGIN:VCALENDAR
VERSION:2.0
PRODID:-//Austrian Indonesian Society - ECPv4.5.6//NONSGML v1.0//EN
CALSCALE:GREGORIAN
METHOD:PUBLISH
X-WR-CALNAME:Austrian Indonesian Society
X-ORIGINAL-URL:http://austria-indonesia.com
X-WR-CALDESC:Events for Austrian Indonesian Society
BEGIN:VEVENT
DTSTART;TZID=UTC+0:20241106T170000
DTEND;TZID=UTC+0:20241106T200000
DTSTAMP:20260420T160734
CREATED:20241101T094422Z
LAST-MODIFIED:20241106T101050Z
UID:1086-1730912400-1730923200@austria-indonesia.com
SUMMARY:Wednesday Seminar - Governing Urban Indonesia by Prof. Amalinda Savirani
DESCRIPTION:\nDear colleagues and friends\,\n\n\nWe are pleased to invite you to a very interesting event next Wednesday\, November 6th\, 2024\, at 5 pm.\n\n\nProfessor Amalinda Savirani from the Department of Politics and Government at Gadjah Mada University in Yogyakarta will present her recent book “Governing Urban Indonesia” (2024)\, which she edited with Edward Aspinall.\n\n\n \nThe talk will be part of the Wednesday Lecture series at the Department of Social and Cultural Anthropology\, University of Vienna\n\n\nLocation: Universitätsstraße 7 (NIG)\, 4th floor\, 1010 Vienna\nRoom: Übungsraum\n \n\n\nOnline participation will also be possible.\nPlease scan the QR code on the poster to join the Zoom meeting.\n \n\n\nFor more details\, please see the attached flyer.\n \n\nWe look forward to seeing you there and would appreciate if you could distribute the information via your networks\, mailing lists\, websites\, social media\, etc. \nBest wishes\,\nGabriele Weichart \n\n\n\n\n \n\n
URL:http://austria-indonesia.com/event/wednesday-seminar-governing-urban-indonesia-by-prof-amalinda-savirani/
LOCATION:Universitätsstraße 7\, Vienna\, 1090\, Austria
END:VEVENT
END:VCALENDAR