BEGIN:VCALENDAR
VERSION:2.0
PRODID:-//Austrian Indonesian Society - ECPv4.5.6//NONSGML v1.0//EN
CALSCALE:GREGORIAN
METHOD:PUBLISH
X-WR-CALNAME:Austrian Indonesian Society
X-ORIGINAL-URL:http://austria-indonesia.com
X-WR-CALDESC:Events for Austrian Indonesian Society
BEGIN:VEVENT
DTSTART;TZID=UTC+0:20220323T170000
DTEND;TZID=UTC+0:20220323T180000
DTSTAMP:20260420T160441
CREATED:20220226T063140Z
LAST-MODIFIED:20220226T063432Z
UID:898-1648054800-1648058400@austria-indonesia.com
SUMMARY:VORTRAG: Thomas Stamford Raffles und die Anfänge der Archäologie in Java
DESCRIPTION:EINLADUNG zum VORTRAG  \n  \nThomas Stamford Raffles und die Anfänge der Archäologie in Java\n\nAo. Univ.Prof. i.R. Dipl.-Ing. Dr.techn. Erich Lehner \n  \nDatum: Mittwoch\, 23. März 2022\nZeit: 17:00\nvia Zoom https://tuwien.zoom.us/j/95478988992?pwd=V1B2ZjZ5bEVSWHBUQWVEa05qV20zUT09 \nMeeting ID: 954 7898 8992\nPassword: AIS-2021\nDer Vortrag wird auf deutsch gehalten mit englischen Folienbeiträgen. \nSir Thomas Stamford Raffles\, Handelsangestellter\, Gouverneurssekretär\, Gouverneur\, Staatsgründer etc. etc.\, ist eine der umstrittendsten Persönlichkeiten der englischen Kolonialgeschichte des frühen 19. Jahrhunderts. Einerseits als heldenhafter Staatsmann und Begründer der wissenschaftlichen Forschung in Indonesien gefeiert\, wird er andererseits als arroganter Egomane verurteilt\, der durch chaotische Verordnungen die Wirtschaft Javas in der Ruin führte und durch Diskriminierung der indigenen Gesellschaft den Grundstein für nachfolgende kriegerische Auseinandersetzungen im insularen Südostasien legte. Der Schwerpunkt des Vortrags liegt jedoch nicht in einer Untersuchung von Raffles’ Persönlichkeit\, sondern in der Einschätzung der Bedeutung seiner zweibändigen Publikation “The History of Java”\, in der auf mehr als tausend Seiten in umfassender Weise die Geschichte Javas dargestellt wird; es ist das erste auf wissenschaftlicher Basis erstellte Monumentalwerk über diese Region\, auch wenn es einer modernen Plagiatskontrolle keineswegs standhalten würde. Im Besonderen geht der Vortrag auf einen Vergleich der Beschreibungen antiker hindu-buddhistischen Monumentalbauten in Raffles’ Buch mit den archäologischen Erkenntnissen in den nachfolgenden zwei Jahrhunderten ein.  \n \nCandi Kalasan: links: Abbildung in Raffles\, The History of Java 1817\, vol.II (Stich J. Mitan); rechts: Zustand 2017 (Foto E. Lehner) \nVortragender:  \nErich Lehner ist Professor für außereuropäische Architektur an der TU Wien und beschäftigt sich mit Themen der Architekturgeschichte in Asien\, Amerika\, Afrika und Ozeanien\, insbesondere mit Prinzipien der Architekturentwicklung im Umfeld von Technik\, Gesellschaft und Kunst. Er war Leiter des Instituts für Baukunst\, Bauaufnahmen und Architekturtheorie an der TU Wien und ist Präsident des Instituts für Vergleichende Architekturforschung sowie Vizepräsident der Österreichisch-Indonesischen Gesellschaft. Seine Publikationen umfassen vor allem Themen der Monumentalarchitektur in Asien und Altamerika\, sowie der vernakulären Architektur in Ozeanien\, Asien\, Amerika und Afrika. \n
URL:http://austria-indonesia.com/event/vortrag-thomas-stamford-raffles-und-die-anfange-der-archaologie-in-java/
END:VEVENT
END:VCALENDAR