BEGIN:VCALENDAR
VERSION:2.0
PRODID:-//Austrian Indonesian Society - ECPv4.5.6//NONSGML v1.0//EN
CALSCALE:GREGORIAN
METHOD:PUBLISH
X-WR-CALNAME:Austrian Indonesian Society
X-ORIGINAL-URL:http://austria-indonesia.com
X-WR-CALDESC:Events for Austrian Indonesian Society
BEGIN:VEVENT
DTSTART;TZID=UTC+0:20180628T190000
DTEND;TZID=UTC+0:20180628T203000
DTSTAMP:20260421T034504
CREATED:20180626T105537Z
LAST-MODIFIED:20180626T105637Z
UID:598-1530212400-1530217800@austria-indonesia.com
SUMMARY:[Vortrag] Flores Friendly: Ansätze zur nachhaltigen Entwicklung in Flores\, Indonesien
DESCRIPTION: \nEs sprechen: Ulrike Herbig\, Irene Doubrawa\, Christine Lechner\, Karl Valent\, Miriam Fechner\, Beate Moch\, Claudio Anderwald\, Bernhard Lutritzhofer (live aus Yogyakarta) \n\n\n\nDonnerstag\, 28. Juni 2018\n\n\n19h00\n\n\nTechnische Universität Wien\n\n\nHörsaal 7 – Schütte Lihotzky-Hörsaal\n\n\n1040 Wien\, Karlsplatz 13\, Stiege VII\, Erdgeschoß\n\n\n\nDie Insel Flores in Indonesien ist vor allem als Tor zum Komodo Nationalpark mit seiner einzigartigen Unterwasserwelt und den Komodo Waran\, die größte derzeit lebende Echsenart\, bekannt. Als eines der Zielgebiete einer Entwicklungsmassnahme\, die unter dem Begriff „Sepuluh Bali Baru“ (10 neue Bali) von der Indonesischen Regierung in den letzten Jahre forciert wird\, erlebt Flores einen Ansturm an Touristen\, dem im Moment weder die Infrastruktur noch die Bevölkerung in ausreichender Weise gewachsen sind. \nEine lokale Regierungsvertreterin hat es sich zum Ziel gesetzt\, durch die Etablierung eines internationalen\, interdisziplinären Forschungszentrums mit Hilfe von Wissenschaftern Möglichkeiten für eine nachhaltige Entwicklung in der Region zu erarbeiten. \nEin kleines Team bestehend aus internationalen Experten (Universitas Gadjah Mada\, Yogyakarta\, Indonesien\, Sydney University of Technology\, Australia und der National University of Singapore) und Studierenden der TU Wien untersuchte im April diesen Jahres verschiedene Aspekte in der Architektur und Raumplanung\, die für eine nachhaltige\, partizipative Tourismusentwicklung in der Region nötige Impulse liefern könnten. In Kooperation mit lokalen Stakeholdern und Regierungsvertretern wurden die Rahmenbedingungen und die Implementierung eines Ökolabels „Flores Friendly“ diskutiert\, das als eine Vision für eine sensiblere Tourismusentwicklung erachtet wird. \nIn den Kurzvorträgen werden die einzelnen Ergebnisse des Workshops vorgestellt und zu einer weiteren Diskussion eingeladen. \n\nFür Getränke und ein kleines Buffet ist im Anschluß gesorgt. \nWir bitten um die Verteilung der Einladung an Interessierte und würden uns freuen\, Sie anlässlich der Veranstaltung begrüßen zu dürfen. \nMit freundlichen Grüßen\nIrmengard Mayer\nÖffentlichtkeitsarbeit IVA \n
URL:http://austria-indonesia.com/event/vortrag-flores-friendly-ansatze-zur-nachhaltigen-entwicklung-in-flores-indonesien/
LOCATION:Karlsplatz 13\, Wien\, Wien\, 1040\, Austria
END:VEVENT
END:VCALENDAR