BEGIN:VCALENDAR
VERSION:2.0
PRODID:-//Austrian Indonesian Society - ECPv4.5.6//NONSGML v1.0//EN
CALSCALE:GREGORIAN
METHOD:PUBLISH
X-WR-CALNAME:Austrian Indonesian Society
X-ORIGINAL-URL:http://austria-indonesia.com
X-WR-CALDESC:Events for Austrian Indonesian Society
BEGIN:VEVENT
DTSTART;TZID=UTC+0:20211008T080000
DTEND;TZID=UTC+0:20211010T170000
DTSTAMP:20260420T232324
CREATED:20211008T095953Z
LAST-MODIFIED:20211008T095953Z
UID:876-1633680000-1633885200@austria-indonesia.com
SUMMARY:Vienna Coffee Festival 2021  - Kaffeesorten von Sumatra bis Ost-Nusa Tenggara
DESCRIPTION:Wir laden Sie zum Vienna Coffee Festival 2021 ein\, um die Kaffeesorten von Sumatra bis Ost-Nusa Tenggara zu verkosten. Datum : 8.–10. Oktober\, 2021. Ort : Ottakringer Brauerei\, 1160 Wien \nWe invite you to taste the Indonesian coffee from Sumatra to East Nusa Tenggara regions at the Vienna Coffee Festival 2021. Date: 8 – 10 October 2021. Location: Ottakringer Brauerei 1160 Wien. \n \n
URL:http://austria-indonesia.com/event/vienna-coffee-festival-2021-kaffeesorten-von-sumatra-bis-ost-nusa-tenggara/
END:VEVENT
END:VCALENDAR