BEGIN:VCALENDAR
VERSION:2.0
PRODID:-//Austrian Indonesian Society - ECPv4.5.6//NONSGML v1.0//EN
CALSCALE:GREGORIAN
METHOD:PUBLISH
X-WR-CALNAME:Austrian Indonesian Society
X-ORIGINAL-URL:http://austria-indonesia.com
X-WR-CALDESC:Events for Austrian Indonesian Society
BEGIN:VEVENT
DTSTART;TZID=UTC+0:20200309T080000
DTEND;TZID=UTC+0:20200312T170000
DTSTAMP:20260420T185927
CREATED:20200227T110024Z
LAST-MODIFIED:20200227T110024Z
UID:793-1583740800-1584032400@austria-indonesia.com
SUMMARY:Sommersemester 2020 Indonesisch-Sprachkurse auf den Niveaus A1\, A2\, B1\, und B2
DESCRIPTION:\n\n\nWir freuen uns\, auch im bevorstehenden Wintersemester 2019/20 Indonesisch-Sprachkurse auf den Niveaus A1\, A2 und B1 an der Universität Wien anbieten zu können:\n\n\n \n\n\nTermine:\n\n\nA1 (4 WS\, 3 ECTS): Montag\, 09:45 – 11:15 und Donnerstag\, 13:15 – 14:45 \n\n\n(1. Termin 09.03.20)\n\n\n \n\n\nA2 (4 WS\, 3 ECTS): Montag\, 11:30 – 13:00 und Mittwoch\, 18:30 – 20:00\n\n\n\n(1. Termin 09.03.20)\n\n\n \n\n\nB1 (2 WS\, 2 ECTS): Donnerstag\, 18:30 – 20:00 \n\n\n(1. Termin 12.03.19)\n \n\n\n\nB2 (2 WS\, 2 ECTS): Donnerstag\, 16:45 – 18:15 \n\n\n(1. Termin 09.03.19)\n\n\n\n \n\n\nOrt:\n\n\nUniversität Wien\n\n\nInstitut für Kultur- und Sozialanthropologie\n\n\nUniversitätsstraße 7 (NIG)\, 4. Stock\n\n\n1010 Wien\n\n\n \n\n\nAnmeldung per Email oder telefonisch:\n\n\ngabriele.weichart@univie.ac.at\n\n\n+43 681 107 55 661\n\n \n \n\n
URL:http://austria-indonesia.com/event/sommersemester-2020-indonesisch-sprachkurse-auf-den-niveaus-a1-a2-b1-und-b2/
END:VEVENT
END:VCALENDAR