BEGIN:VCALENDAR
VERSION:2.0
PRODID:-//Austrian Indonesian Society - ECPv4.5.6//NONSGML v1.0//EN
CALSCALE:GREGORIAN
METHOD:PUBLISH
X-WR-CALNAME:Austrian Indonesian Society
X-ORIGINAL-URL:http://austria-indonesia.com
X-WR-CALDESC:Events for Austrian Indonesian Society
BEGIN:VEVENT
DTSTART;TZID=UTC+0:20171129T163000
DTEND;TZID=UTC+0:20171129T180000
DTSTAMP:20260421T021256
CREATED:20171125T081839Z
LAST-MODIFIED:20171125T081839Z
UID:533-1511973000-1511978400@austria-indonesia.com
SUMMARY:Seminar "The 2006 Yogyakarta Earthquake: A Case Study of Media and the Power of Representation"
DESCRIPTION:Einladung/Invitation \n Wednesday\, 29 November 2017 \n16:30 Uhr \n  \nNeues Institutsgebäude (NIG) Universitätsstr.7\,  Hörsaal C\, IKSA\, 4th floor \n  \nProfessor Paschalis Maria Laksono \nThe 2006 Yogyakarta Earthquake: A Case Study of Media and the Power of Representation \n\nIn Cooperation with the Institute for Cultural and Social Anthropology\, University of Vienna \n \n
URL:http://austria-indonesia.com/event/seminar-the-2006-yogyakarta-earthquake-a-case-study-of-media-and-the-power-of-representation/
LOCATION:Universitätsstraße 7\, Vienna\, 1010\, Austria
END:VEVENT
END:VCALENDAR