BEGIN:VCALENDAR
VERSION:2.0
PRODID:-//Austrian Indonesian Society - ECPv4.5.6//NONSGML v1.0//EN
CALSCALE:GREGORIAN
METHOD:PUBLISH
X-WR-CALNAME:Austrian Indonesian Society
X-ORIGINAL-URL:http://austria-indonesia.com
X-WR-CALDESC:Events for Austrian Indonesian Society
BEGIN:VEVENT
DTSTART;TZID=UTC+0:20180509T183000
DTEND;TZID=UTC+0:20180509T193000
DTSTAMP:20260421T021159
CREATED:20180507T103203Z
LAST-MODIFIED:20180507T104032Z
UID:581-1525890600-1525894200@austria-indonesia.com
SUMMARY:Schrift und Schriftgebrauch in Sumatra seit dem 7. Jahrhundert
DESCRIPTION:Einladung \nam Mittwoch\, 9. Mai 2018\n18:30\nInstitut für Kultur- und Sozialanthropologie\nUniversitätsstr. 7 (NIG)\, 4. Stock\, Übungsraum\n1010 Wien \nVortrag mit Diskussion \nDr. Johann Angerler \nDas Weltmuseum in Wien hat  – wie zahlreiche andere Museen auch – eine schöne Sammlung von Schriftzeugnissen der Batak aus Sumatra\, auf Bambus\, Knochen oder in Rindenbücher (pustaha) geschrieben. Besonders die oft kunstvoll illustrierten pustaha sind bekannt und werden häufig abgebildet\, aber kaum jemand weiß was darin geschrieben steht. Um wie und was die Batak in vorkolonialer Zeit schrieben soll es in diesem Vortrag gehen\, und auch darum\, welchen Platz ihre Schrift in der Geschichte des Schriftgebrauchs in Sumatra einnimmt. Der Gebrauch der Schrift lässt sich in Sumatra bis ins 7. Jhd. zurückverfolgen\, bis zu den ältesten Inschriften von Srivijaya . Ist es vorstellbar\, dass es im Schriftgebrauch Kontinuität von damals bis zu den Batak im 19. Jhd. geben könnte? \n \nEine Seite aus pustaha Nr. 94833. Abbildung mit freundlicher Genehmigung des Weltmuseum Wien \nKurz-Biographie \nDr. Johann Angerler\, Studium Geschichte und Völkerkunde in Wien\, Indonesische Sprachen und Kulturen in Leiden und Bandung\, ist unabhängiger Forscher. Er war zuvor Forschungsmitarbeiter am Leiden Ethnosystems and Development Programme (LEAD)\, Faculty of Science\, University Leiden. Sein Forschungsinteresse  ist auf traditionelle Wissenssysteme und Institutionen gerichtet; sein regionaler Schwerpunkt ist Sumatra\, Indonesien. Er hat mehrere Feldforschungen durchgeführt und sich insgesamt acht Jahre in Indonesien aufgehalten. \n
URL:http://austria-indonesia.com/event/schrift-und-schriftgebrauch-in-sumatra-seit-dem-7-jahrhundert/
LOCATION:Universitätsstr. 7 (NIG)\, 4. Stock\, Übungsraum\, Wien\, Wien\, 1010\, Austria
END:VEVENT
END:VCALENDAR