BEGIN:VCALENDAR
VERSION:2.0
PRODID:-//Austrian Indonesian Society - ECPv4.5.6//NONSGML v1.0//EN
CALSCALE:GREGORIAN
METHOD:PUBLISH
X-WR-CALNAME:Austrian Indonesian Society
X-ORIGINAL-URL:http://austria-indonesia.com
X-WR-CALDESC:Events for Austrian Indonesian Society
BEGIN:VEVENT
DTSTART;TZID=UTC+0:20181109T160000
DTEND;TZID=UTC+0:20181109T170000
DTSTAMP:20260421T020809
CREATED:20181107T221515Z
LAST-MODIFIED:20181107T221613Z
UID:629-1541779200-1541782800@austria-indonesia.com
SUMMARY:Nächster Poco-poco-Termin: Freitag\, 9. November
DESCRIPTION:Liebe AIS-Mitglieder\, Kawan-kawan dari Lembaga Persahabatan\,\n \nunter dem goldenen Sonnenschein und dem blauen Himmel des Altweibersommers hat das zweite Event „Poco-poco“ vor dem Tore des Weltmuseum Wien flott und feierlich stattgefunden.\n \nEs war ein sehr erfolgreiches gemeinsames Tanzen\, mit einer fröhlichen und freundschaftlichen Stimmung mit Anfangs 25 Personen bis zum Ende der Veranstaltung durch Zuzug von Touristen aus Indonesien 40 Personen dabei waren.\nAnbei finden Sie bitte in der Anlage ein Foto.\n \nDie nächste Poco-poco-Veranstaltung wird am Freitag\, dem 9. November\, zwischen 16:00 und 17:00 Uhr\, in der prächtigen Säulenhalle des Weltmuseums stattfinden. \nIch hoffe auch diesmal auf rege Beteiligung.\n \nMit freundlichen Grüßen\n \nBenjamin Nathaniel\nReferent für Kunst und Kultur der Österreichisch-Indonesischen Gesellschaft \n\n0676 31 31 331 \n\nLinks: https://www.youtube.com/watch?v=MXVaaMXotbY\n           https://www.youtube.com/watch?v=MHzlphKGOxI\n           https://www.youtube.com/watch?v=-A4H0SBtSUw\n
URL:http://austria-indonesia.com/event/nachster-poco-poco-termin-freitag-9-november/
LOCATION:Heldenplatz\, Vienna\, Vienna\, 1010\, Austria
END:VEVENT
END:VCALENDAR