BEGIN:VCALENDAR
VERSION:2.0
PRODID:-//Austrian Indonesian Society - ECPv4.5.6//NONSGML v1.0//EN
CALSCALE:GREGORIAN
METHOD:PUBLISH
X-WR-CALNAME:Austrian Indonesian Society
X-ORIGINAL-URL:http://austria-indonesia.com
X-WR-CALDESC:Events for Austrian Indonesian Society
BEGIN:VEVENT
DTSTART;TZID=UTC+0:20201006T090000
DTEND;TZID=UTC+0:20201006T223000
DTSTAMP:20260420T172203
CREATED:20200914T092847Z
LAST-MODIFIED:20200914T092847Z
UID:812-1601974800-1602023400@austria-indonesia.com
SUMMARY:Indonesian Language Online Course
DESCRIPTION: \n
URL:http://austria-indonesia.com/event/indonesian-language-online-course/
CATEGORIES:Culture
END:VEVENT
END:VCALENDAR