BEGIN:VCALENDAR
VERSION:2.0
PRODID:-//Austrian Indonesian Society - ECPv4.5.6//NONSGML v1.0//EN
CALSCALE:GREGORIAN
METHOD:PUBLISH
X-WR-CALNAME:Austrian Indonesian Society
X-ORIGINAL-URL:http://austria-indonesia.com
X-WR-CALDESC:Events for Austrian Indonesian Society
BEGIN:VEVENT
DTSTART;TZID=UTC+0:20211011T080000
DTEND;TZID=UTC+0:20211011T170000
DTSTAMP:20260420T184115
CREATED:20211001T070500Z
LAST-MODIFIED:20211001T070816Z
UID:871-1633939200-1633971600@austria-indonesia.com
SUMMARY:Indonesian Language Course - WS 2021
DESCRIPTION: \n
URL:http://austria-indonesia.com/event/indonesian-language-course-ws-2021/
END:VEVENT
END:VCALENDAR