BEGIN:VCALENDAR
VERSION:2.0
PRODID:-//Austrian Indonesian Society - ECPv4.5.6//NONSGML v1.0//EN
CALSCALE:GREGORIAN
METHOD:PUBLISH
X-WR-CALNAME:Austrian Indonesian Society
X-ORIGINAL-URL:http://austria-indonesia.com
X-WR-CALDESC:Events for Austrian Indonesian Society
BEGIN:VEVENT
DTSTART;TZID=UTC+0:20220601T170000
DTEND;TZID=UTC+0:20220601T180000
DTSTAMP:20260420T160733
CREATED:20220513T065607Z
LAST-MODIFIED:20220513T065607Z
UID:919-1654102800-1654106400@austria-indonesia.com
SUMMARY:Guest Lecture: Young “Peace-Makers” and Conceptualizations of Pluralism in Bandung\, Indonesia
DESCRIPTION:Dear members and friends of the AIS\, \n \nkindly find the invitation to our next lecture\,  on 1 June\, 5 pm: \n \nTitle: Young “Peace-Makers” and Conceptualizations of Pluralism in Bandung\, Indonesia\n \nSpeaker: Dayana Lengauer\, BA Ma\, PHD student.\n \nAbstract: Bandung\, West Java’s capital city and main educational center\, is bustling with the activities of young people organized in komunitas\, or fluid social formations espousing the principles of amity\, creativity\, and peer solidarity. In this lecture\, I draw from ethnographic material collected during a one-year fieldwork in Bandung for my doctoral thesis “Pluralism as Practice” and present several komunitas perdamaian\, or so called peace communities\, their local genealogies\, activities\, and respective fields of engagement. I then move on to discussing new conceptualizations of pluralism that notably differ from state-sponsored discourses and what older generations might associate with Bhinneka Tunggal Ika or “unity in diversity”. These new conceptualizations\, circulating among young peace activists\, situate feelings and emotional ties directly into ideas of how ethnic and\, particularly\, religious difference and diversity should be dealt with. Although small in number\, these komunitas represent islands of pluralist practices and sensibilities in contexts characterized by increasing levels of religious intolerance and a hardening of religious identities.\n\nDayana Lengauer is recipient of the Doctoral Fellowship of the Austrian Academy of Sciences at the Institute for Social Anthropology and PhD student at the University of Vienna.  \n\nThe session will be held  via Zoom https://tuwien.zoom.us/j/95478988992?pwd=V1B2ZjZ5bEVSWHBUQWVEa05qV20zUT09\nMeeting ID: 954 7898 8992 \nPassword: AIS-2021 \n
URL:http://austria-indonesia.com/event/guest-lecture-young-peace-makers-and-conceptualizations-of-pluralism-in-bandung-indonesia/
END:VEVENT
END:VCALENDAR