BEGIN:VCALENDAR
VERSION:2.0
PRODID:-//Austrian Indonesian Society - ECPv4.5.6//NONSGML v1.0//EN
CALSCALE:GREGORIAN
METHOD:PUBLISH
X-WR-CALNAME:Austrian Indonesian Society
X-ORIGINAL-URL:http://austria-indonesia.com
X-WR-CALDESC:Events for Austrian Indonesian Society
BEGIN:VEVENT
DTSTART;TZID=UTC+0:20191030T190000
DTEND;TZID=UTC+0:20191030T200000
DTSTAMP:20260420T232303
CREATED:20191025T074754Z
LAST-MODIFIED:20191025T075041Z
UID:766-1572462000-1572465600@austria-indonesia.com
SUMMARY:Gotong Royong - For A Common Goal Collectively Shaping Neighbourhoods in Jakarta
DESCRIPTION:We cordially invite you to the event of Architektur ohne Grenzen Austria:\n\nGotong Royong – For A Common GoalCollectively Shaping Neighbourhoods in Jakarta30.10.2019 at 07:00 pm // Architekturzentrum Wien (Museumsplatz 1\, 1070 Wien) \n\nIn Indonesia\, there is a long tradition of developing and implementing collective projects in a democratic process: Gotong royong.\nArchitektur ohne Grenzen Austria discusses the approaches on collaborative projects in Indonesia in lectures on current concepts in art and architecture.\n\n\n  \nLECTURES\nMagdalena Dona und Daniel Schürr // AoGA und Bersama\nAndrea Fitrianto // Architecture Sans Frontieres Indonesia\nFarid Rakun // Artists Collective ruangrupa\nGabriele Weichart // Institut für Kultur- und Sozialanthropologie\, Uni Wien\n  \nDiscussion with the lecturers and Arch. Eilfried Huth\nModeration // Maik Novotny \n\n\nThe event is a cooperation between AoGA and the Architekturzentrum Wien and will be held in English. \n\nFurther Information about the event can also be found on the Facebook page.We look forward to your coming to the discussion and spending an exciting evening with us! \n
URL:http://austria-indonesia.com/event/gotong-royong-for-a-common-goal-collectively-shaping-neighbourhoods-in-jakarta/
LOCATION:Museumplatz 1\, Vienna\, 1070\, Austria
END:VEVENT
END:VCALENDAR