BEGIN:VCALENDAR
VERSION:2.0
PRODID:-//Austrian Indonesian Society - ECPv4.5.6//NONSGML v1.0//EN
CALSCALE:GREGORIAN
METHOD:PUBLISH
X-WR-CALNAME:Austrian Indonesian Society
X-ORIGINAL-URL:http://austria-indonesia.com
X-WR-CALDESC:Events for Austrian Indonesian Society
BEGIN:VEVENT
DTSTART;TZID=UTC+0:20170601T183000
DTEND;TZID=UTC+0:20170601T203000
DTSTAMP:20260421T051536
CREATED:20170518T110057Z
LAST-MODIFIED:20170518T111759Z
UID:393-1496341800-1496349000@austria-indonesia.com
SUMMARY:Endorsing Freilichmuseum in Preserving Vernacular Houses of Nusantara: shall we?
DESCRIPTION:[Lecture Series: Demystifying Nusantara Architecture]  \n \nYusfan Adeputera Yusran is a PhD candidate at the  Institute of History of Art and Building Archeology and Restoration \,Technical University  Austria. He is a lecturer in the department of architecture at  Brawijaya University\, Malang\,  where he teaches the development of traditional architecture of Indonesia (Nusantara). His research interest focuses on the sustainability principles of Nusantara architecture and its integration in modern architectural design.  Yusfan is a member of International Network for Traditional Building\, Architecture and Urbanism (INTBAU) and Architecture\, Culture and Spirituality Forum (ACS). \n
URL:http://austria-indonesia.com/event/endorsing-freilichmuseum-in-preserving-vernacular-houses-of-nusantara-shall-we/
LOCATION:Karlsplatz 13\, Wien\, Wien\, 1040\, Austria
CATEGORIES:Scholarly talks,Upcoming event
END:VEVENT
END:VCALENDAR