BEGIN:VCALENDAR
VERSION:2.0
PRODID:-//Austrian Indonesian Society - ECPv4.5.6//NONSGML v1.0//EN
CALSCALE:GREGORIAN
METHOD:PUBLISH
X-WR-CALNAME:Austrian Indonesian Society
X-ORIGINAL-URL:http://austria-indonesia.com
X-WR-CALDESC:Events for Austrian Indonesian Society
BEGIN:VEVENT
DTSTART;TZID=UTC+0:20211020T180000
DTEND;TZID=UTC+0:20211020T200000
DTSTAMP:20260420T174210
CREATED:20211025T103551Z
LAST-MODIFIED:20211025T103551Z
UID:880-1634752800-1634760000@austria-indonesia.com
SUMMARY:Die COVID-19 Pandemie in Südostasien - Vortrag von  by Prof. DDR. Wolfgang Graninger\, Vizepräsident der AIS
DESCRIPTION:Dieser AIS-Vortrag via Zoom von Prof. Wolfgang Graninger gab allen Teilnehmerinnen einen hervorragenden und vertieften Einblick in die Genesis und die biologischen Grundlagen von Pandemien (mit besonderer Berücksichtigung von COVID-19). Was jedoch seinen Vortrag für die AIS einzigartig machte\, war die evidenzbasierte Fokussierung der Präsentation auf die Situation in Indonesien. Ein großes DANKESCHÖN an Prof. Graninger! \n
URL:http://austria-indonesia.com/event/die-covid-19-pandemie-in-sudostasien-vortrag-von-by-prof-ddr-wolfgang-graninger-vizeprasident-der-ais/
CATEGORIES:Past event
END:VEVENT
END:VCALENDAR