BEGIN:VCALENDAR
VERSION:2.0
PRODID:-//Austrian Indonesian Society - ECPv4.5.6//NONSGML v1.0//EN
CALSCALE:GREGORIAN
METHOD:PUBLISH
X-WR-CALNAME:Austrian Indonesian Society
X-ORIGINAL-URL:http://austria-indonesia.com
X-WR-CALDESC:Events for Austrian Indonesian Society
BEGIN:VEVENT
DTSTART;TZID=UTC+0:20200206T183000
DTEND;TZID=UTC+0:20200206T200000
DTSTAMP:20260420T215824
CREATED:20200131T163129Z
LAST-MODIFIED:20200131T163129Z
UID:775-1581013800-1581019200@austria-indonesia.com
SUMMARY:Angklung: Die Musik des Weltkulturerbes
DESCRIPTION: \n
URL:http://austria-indonesia.com/event/angklung-die-musik-des-weltkulturerbes/
LOCATION:Schönbrunner Strasse 54\, 2.Stock\, Vienna\, Vienna\, 1050\, Austria
END:VEVENT
END:VCALENDAR