BEGIN:VCALENDAR
VERSION:2.0
PRODID:-//Austrian Indonesian Society - ECPv4.5.6//NONSGML v1.0//EN
CALSCALE:GREGORIAN
METHOD:PUBLISH
X-WR-CALNAME:Austrian Indonesian Society
X-ORIGINAL-URL:http://austria-indonesia.com
X-WR-CALDESC:Events for Austrian Indonesian Society
BEGIN:VEVENT
DTSTART;TZID=UTC+0:20241120T180000
DTEND;TZID=UTC+0:20241120T210000
DTSTAMP:20260420T143759
CREATED:20241101T095538Z
LAST-MODIFIED:20241101T095538Z
UID:1093-1732125600-1732136400@austria-indonesia.com
SUMMARY:AIS: Vorträge von Dr. Helmut Lukas - Macht und Sexualität: Das abenteuerliche Leben des Prinzen Puger (reg. 1705-1719 als Pakubuwono I)
DESCRIPTION:Sehr geehrte Mitglieder der AIS und Interessierte\, \nanbei finden Sie die Ankündigung von 3 Vorträgen von Dr. Helmut Lukas (Mitglied der AIS)\, geplant für den 13.\, 20.\, und 27. November. \nMacht und Sexualität: Die Frau mit der flammenden Vulva in der politischen Mythologie Javas (13. Jahrhundert)\n(mit PowerPoint-Präsentation)\nDatum/Zeit: 13.11. 2024\, 18 Uhr.\nOrt: Vortragssaal des Österreichischen Institutes für China- u. Südostasienforschung\, Josefstädter Str. 20\, Tür 24\, Neubau im Hof \nMacht und Sexualität: Das abenteuerliche Leben des Prinzen Puger (reg. 1705-1719 als Pakubuwono I)\n(mit PowerPoint-Präsentation)\nDatum/Zeit: 20.11. 2024\, 18 Uhr.\nOrt: Vortragssaal des Österreichischen Institutes für China- u. Südostasienforschung\, Josefstädter Str. 20\, Tür 24\, Neubau im Hof \nSerat Centhini\, das Kamasutra Javas?\n(mit PowerPoint-Präsentation)\nDatum/Zeit: 27. 11. 24\, 18 Uhr.\nOrt: Vortragssaal des Österreichischen Institutes für China- u. Südostasienforschung\, Josefstädter Str. 20\, Tür 24\, Neubau im Hof \nMit besten Grüßen\,\nBrigitte Holzner \n
URL:http://austria-indonesia.com/event/ais-vortrage-von-dr-helmut-lukas-macht-und-sexualitat-das-abenteuerliche-leben-des-prinzen-puger-reg-1705-1719-als-pakubuwono-i/
LOCATION:Josefstädter Str. 20\, Tür 24\, Neubau im Hof\, Wien\, 1080\, Austria
END:VEVENT
END:VCALENDAR