BEGIN:VCALENDAR
VERSION:2.0
PRODID:-//Austrian Indonesian Society - ECPv4.5.6//NONSGML v1.0//EN
CALSCALE:GREGORIAN
METHOD:PUBLISH
X-WR-CALNAME:Austrian Indonesian Society
X-ORIGINAL-URL:http://austria-indonesia.com
X-WR-CALDESC:Events for Austrian Indonesian Society
BEGIN:VEVENT
DTSTART;TZID=UTC+0:20191017T180000
DTEND;TZID=UTC+0:20191017T210000
DTSTAMP:20260420T231907
CREATED:20190925T121950Z
LAST-MODIFIED:20191010T094232Z
UID:717-1571335200-1571346000@austria-indonesia.com
SUMMARY:AFFANDI - Indonesian Contemporary Heritage and Conservation
DESCRIPTION:We would like to invite you to our event “AFFANDI – Indonesian Contemporary Heritage and Conservation” in the presence of Mrs. KARTIKA AFFANDI\, the daughter of Affandi. \nRegistration link: (form) \nKartika Affandi\, who is celebrating her 85th birthday this year\, is herself one of the most important artists in Indonesia and beyond. She was the one who initiated the restoration of her father’s oeuvre\, drawing attention to the need to train restorers in Indonesia. On the basis of the activities in the Museum Affandi\, curricula for restoration and monument preservation are being developed in cooperation of 5 Indonesian and 4 European universities. \nRelated to this effort\, since 2016\, scientists from the Danube University Krems and the Vienna University of Technology have been working in interdisciplinary projects on methods and concepts for the preservation of paintings\, graphics and architecture in Yogyakarta\, Indonesia\, with the support of ASEA Uninet and the Landsteiner Gesellschaft. \nIn her talk\, Kartika Affandi will talk about her father’s work and the history of the Museum Affandi. Afterward\, Patricia Engel (Danube University Krems) and Ulrike Herbig (TU Vienna) will give an insight into the aforementioned research projects and their results. \n\nPlace: Danube University Krems\, Dr. Ing. Karl Dorrekstrasse 30\, 3500 Krems\nTime: 17.10.2019\, from 6:00 pm\nWelcome speech: Prof. Dr. Christian Hanus (Dean of Danube University Krems) and Prof. Dr. A Min Tjoa (Austrian National Coordinator of the ASEA-UNINET)\n\nOrganizer: ASEA UNINET\, Austrian Indonesian Society and Danube University Krems \n
URL:http://austria-indonesia.com/event/affandi-indonesian-contemporary-heritage-and-conservation/
LOCATION:Dr. Ing. Karl Dorrekstrasse 30\, 3500 Krems\, Krems\, 3500\, Austria
END:VEVENT
END:VCALENDAR